BEGIN:VCALENDAR
VERSION:2.0
PRODID:SchoolNow
CALSCALE:GREGORIAN
BEGIN:VEVENT
UID:877fc69e-7d79-11f0-9cc7-0a58a9feac02
DTSTAMP:20260421T172009Z
SUMMARY:"SOAR Into Summer" Spring Festival
URL;VALUE=URI:https://www.tusd.org/schools/fern/calendar/8523969/soar-into-
 summer-spring-festival
DTSTART:20260516T000000Z
DTEND:20260516T020000Z
END:VEVENT
END:VCALENDAR
