BEGIN:VCALENDAR
VERSION:2.0
PRODID:SchoolNow
CALSCALE:GREGORIAN
BEGIN:VEVENT
UID:877fc5c2-7d79-11f0-aa33-0a58a9feac02
DTSTAMP:20260421T172009Z
SUMMARY:Teacher & Staff Appreciation Week
URL;VALUE=URI:https://www.tusd.org/schools/fern/calendar/8523968/teacher-st
 aff-appreciation-week
DTSTART;VALUE=DATE:20260504
DTEND;VALUE=DATE:20260509
END:VEVENT
END:VCALENDAR
