BEGIN:VCALENDAR
VERSION:2.0
PRODID:SchoolNow
CALSCALE:GREGORIAN
BEGIN:VEVENT
UID:877fc4dc-7d79-11f0-894b-0a58a9feac02
DTSTAMP:20260421T172009Z
SUMMARY:Scholarship Presentation @ Morning Assembly
URL;VALUE=URI:https://www.tusd.org/schools/fern/calendar/8523967/scholarshi
 p-presentation-morning-assembly
DTSTART:20260427T160000Z
DTEND:20260427T170000Z
END:VEVENT
END:VCALENDAR
