BEGIN:VCALENDAR
VERSION:2.0
PRODID:SchoolNow
CALSCALE:GREGORIAN
BEGIN:VEVENT
UID:877fc324-7d79-11f0-8347-0a58a9feac02
DTSTAMP:20260421T172009Z
SUMMARY:Heroes Week
URL;VALUE=URI:https://www.tusd.org/schools/fern/calendar/8523965/heroes-wee
 k
DTSTART;VALUE=DATE:20260413
DTEND;VALUE=DATE:20260418
ATTACH;FILENAME=Fern PTA_Falcon Spirit_Heroes Week Flyer_2026-04-13.pdf;FMT
 TYPE=application/pdf:https://drive.google.com/open?id=1MHFE8NOLYBlO2baGAkt
 fXVK7H2Q93Ftg
END:VEVENT
END:VCALENDAR
