BEGIN:VCALENDAR
VERSION:2.0
PRODID:SchoolNow
CALSCALE:GREGORIAN
BEGIN:VEVENT
UID:877fc23e-7d79-11f0-8c1e-0a58a9feac02
DTSTAMP:20260421T172009Z
SUMMARY:Upper  (3rd-5th) Grade Family Event
URL;VALUE=URI:https://www.tusd.org/schools/fern/calendar/8523964/upper-3rd-
 5th-grade-family-event
DTSTART:20260328T010000Z
DTEND:20260328T030000Z
ATTACH;FILENAME=Fern PTA_Family Events_Fernchella Flyer_2026-03-27.pdf;FMTT
 YPE=application/pdf:https://drive.google.com/open?id=1cjaNbgY9uKdcmw9j9T8D
 z7-MkiENMG8q
END:VEVENT
END:VCALENDAR
