BEGIN:VCALENDAR
VERSION:2.0
PRODID:SchoolNow
CALSCALE:GREGORIAN
BEGIN:VEVENT
UID:877fc158-7d79-11f0-970c-0a58a9feac02
DTSTAMP:20260421T172009Z
SUMMARY:Bike Rodeo (3rd-5th Grade)
URL;VALUE=URI:https://www.tusd.org/schools/fern/calendar/8523963/bike-rodeo
 -3rd-5th-grade
DTSTART:20260319T160000Z
DTEND:20260319T180000Z
ATTACH;FILENAME=Fern PTA_Bike Rodeo_Flyer_2026-03-19.pdf;FMTTYPE=applicatio
 n/pdf:https://drive.google.com/open?id=11QK2CDyX6eSwB6pUe2m5iNkCyH6WT0mO
END:VEVENT
END:VCALENDAR
