BEGIN:VCALENDAR
VERSION:2.0
PRODID:SchoolNow
CALSCALE:GREGORIAN
BEGIN:VEVENT
UID:877fc072-7d79-11f0-8dbe-0a58a9feac02
DTSTAMP:20260421T172009Z
SUMMARY:PTA Association Meeting (26-27 Board Election & Honorary Service Aw
 ards)
URL;VALUE=URI:https://www.tusd.org/schools/fern/calendar/8523962/pta-associ
 ation-meeting-26-27-board-election-honorary-service-awards
DTSTART:20260305T161500Z
DTEND:20260305T170000Z
END:VEVENT
END:VCALENDAR
