BEGIN:VCALENDAR
VERSION:2.0
PRODID:SchoolNow
CALSCALE:GREGORIAN
BEGIN:VEVENT
UID:877fbf50-7d79-11f0-a9c6-0a58a9feac02
DTSTAMP:20260421T172009Z
SUMMARY:Read Across America Week
URL;VALUE=URI:https://www.tusd.org/schools/fern/calendar/8523961/read-acros
 s-america-week
DTSTART;VALUE=DATE:20260302
DTEND;VALUE=DATE:20260306
END:VEVENT
END:VCALENDAR
