BEGIN:VCALENDAR
VERSION:2.0
PRODID:SchoolNow
CALSCALE:GREGORIAN
BEGIN:VEVENT
UID:877fbe74-7d79-11f0-91a3-0a58a9feac02
DTSTAMP:20260421T172009Z
SUMMARY:APEX Fun Run
URL;VALUE=URI:https://www.tusd.org/schools/fern/calendar/8523960/apex-fun-r
 un
DTSTART;VALUE=DATE:20260226
DTEND;VALUE=DATE:20260227
END:VEVENT
END:VCALENDAR
