BEGIN:VCALENDAR
VERSION:2.0
PRODID:SchoolNow
CALSCALE:GREGORIAN
BEGIN:VEVENT
UID:877fbd8e-7d79-11f0-8593-0a58a9feac02
DTSTAMP:20260421T172009Z
SUMMARY:Lower (TK-2nd) Grade Family Event
URL;VALUE=URI:https://www.tusd.org/schools/fern/calendar/8523959/lower-tk-2
 nd-grade-family-event
DTSTART:20260207T020000Z
DTEND:20260207T033000Z
ATTACH;FILENAME=Fern PTA_Family Events_Sweetheart Dance Flyer_2026-02-06.pd
 f;FMTTYPE=application/pdf:https://drive.google.com/open?id=1yIED9561uDWwQL
 -on9m4iYFUU_LigFha
END:VEVENT
END:VCALENDAR
