BEGIN:VCALENDAR
VERSION:2.0
PRODID:SchoolNow
CALSCALE:GREGORIAN
BEGIN:VEVENT
UID:07dbd3bc-73ea-11f0-b7e3-0a58a9feac02
DTSTAMP:20260421T172009Z
SUMMARY:"First Fridays" with PTA & Spirit Wear Sale
URL;VALUE=URI:https://www.tusd.org/schools/fern/calendar/8481651/first-frid
 ays-with-pta-spirit-wear-sale
DTSTART:20260313T153000Z
DTEND:20260313T160000Z
END:VEVENT
END:VCALENDAR
