BEGIN:VCALENDAR
VERSION:2.0
PRODID:SchoolNow
CALSCALE:GREGORIAN
BEGIN:VEVENT
UID:07dbd2e0-73ea-11f0-a1a2-0a58a9feac02
DTSTAMP:20260421T172009Z
SUMMARY:"First Fridays" with PTA
URL;VALUE=URI:https://www.tusd.org/schools/fern/calendar/8481650/first-frid
 ays-with-pta
DTSTART:20260206T163000Z
DTEND:20260206T170000Z
END:VEVENT
END:VCALENDAR
