BEGIN:VCALENDAR
VERSION:2.0
PRODID:SchoolNow
CALSCALE:GREGORIAN
BEGIN:VEVENT
UID:07dbd1fa-73ea-11f0-ba15-0a58a9feac02
DTSTAMP:20260421T172009Z
SUMMARY:"First Fridays" with PTA
URL;VALUE=URI:https://www.tusd.org/schools/fern/calendar/8481649/first-frid
 ays-with-pta
DTSTART:20260109T163000Z
DTEND:20260109T170000Z
END:VEVENT
END:VCALENDAR
