BEGIN:VCALENDAR
VERSION:2.0
PRODID:SchoolNow
CALSCALE:GREGORIAN
BEGIN:VEVENT
UID:056d6d5c-73ea-11f0-88ba-0a58a9feac02
DTSTAMP:20260220T195007Z
SUMMARY:District Steam Fair
URL;VALUE=URI:https://www.tusd.org/schools/fern/calendar/8481634/district-s
 team-fair
DTSTART;VALUE=DATE:20260305
DTEND;VALUE=DATE:20260306
END:VEVENT
END:VCALENDAR
