BEGIN:VCALENDAR
VERSION:2.0
PRODID:SchoolNow
CALSCALE:GREGORIAN
BEGIN:VEVENT
UID:67a6a28a-6c25-11f0-8a18-0a58a9feac02
DTSTAMP:20260220T195007Z
SUMMARY:No School: Memorial Day
URL;VALUE=URI:https://www.tusd.org/schools/fern/calendar/8454278/no-school-
 memorial-day
DTSTART;VALUE=DATE:20260525
DTEND;VALUE=DATE:20260526
END:VEVENT
END:VCALENDAR
