BEGIN:VCALENDAR
VERSION:2.0
PRODID:SchoolNow
CALSCALE:GREGORIAN
BEGIN:VEVENT
UID:67a6a168-6c25-11f0-b8e2-0a58a9feac02
DTSTAMP:20260220T195007Z
SUMMARY:No School: President's Day
URL;VALUE=URI:https://www.tusd.org/schools/fern/calendar/8454277/no-school-
 presidents-day
DTSTART;VALUE=DATE:20260216
DTEND;VALUE=DATE:20260217
END:VEVENT
END:VCALENDAR
