BEGIN:VCALENDAR
VERSION:2.0
PRODID:SchoolNow
CALSCALE:GREGORIAN
BEGIN:VEVENT
UID:67a69ea2-6c25-11f0-9773-0a58a9feac02
DTSTAMP:20260220T195007Z
SUMMARY:No School: Lincoln Day
URL;VALUE=URI:https://www.tusd.org/schools/fern/calendar/8454276/no-school-
 lincoln-day
DTSTART;VALUE=DATE:20260209
DTEND;VALUE=DATE:20260210
END:VEVENT
END:VCALENDAR
