BEGIN:VCALENDAR
VERSION:2.0
PRODID:SchoolNow
CALSCALE:GREGORIAN
BEGIN:VEVENT
UID:6cbb479a-6bf2-11f0-ba38-0ec27b473abd
DTSTAMP:20260220T195007Z
SUMMARY:No School: Christmas Day
URL;VALUE=URI:https://www.tusd.org/schools/fern/calendar/8453132/no-school-
 christmas-day
DTSTART;VALUE=DATE:20251225
DTEND;VALUE=DATE:20251226
END:VEVENT
END:VCALENDAR
