BEGIN:VCALENDAR
VERSION:2.0
PRODID:SchoolNow
CALSCALE:GREGORIAN
BEGIN:VEVENT
UID:6cbb46b4-6bf2-11f0-abca-0ec27b473abd
DTSTAMP:20260220T195007Z
SUMMARY:No School: Christmas Eve
URL;VALUE=URI:https://www.tusd.org/schools/fern/calendar/8453131/no-school-
 christmas-eve
DTSTART;VALUE=DATE:20251224
DTEND;VALUE=DATE:20251225
END:VEVENT
END:VCALENDAR
