BEGIN:VCALENDAR
VERSION:2.0
PRODID:SchoolNow
CALSCALE:GREGORIAN
BEGIN:VEVENT
UID:6cbb45e2-6bf2-11f0-b35c-0ec27b473abd
DTSTAMP:20260220T195007Z
SUMMARY:No School: Thanksgiving Holiday
URL;VALUE=URI:https://www.tusd.org/schools/fern/calendar/8453130/no-school-
 thanksgiving-holiday
DTSTART;VALUE=DATE:20251128
DTEND;VALUE=DATE:20251129
END:VEVENT
END:VCALENDAR
