BEGIN:VCALENDAR
VERSION:2.0
PRODID:SchoolNow
CALSCALE:GREGORIAN
BEGIN:VEVENT
UID:6cbb44fc-6bf2-11f0-937c-0ec27b473abd
DTSTAMP:20260220T195007Z
SUMMARY:No School: Thanksgiving Day
URL;VALUE=URI:https://www.tusd.org/schools/fern/calendar/8453129/no-school-
 thanksgiving-day
DTSTART;VALUE=DATE:20251127
DTEND;VALUE=DATE:20251128
END:VEVENT
END:VCALENDAR
