BEGIN:VCALENDAR
VERSION:2.0
PRODID:SchoolNow
CALSCALE:GREGORIAN
BEGIN:VEVENT
UID:6cbb433a-6bf2-11f0-a765-0ec27b473abd
DTSTAMP:20260220T195007Z
SUMMARY:No School / Spring Break
URL;VALUE=URI:https://www.tusd.org/schools/fern/calendar/8453127/no-school-
 spring-break
DTSTART;VALUE=DATE:20260402
DTEND;VALUE=DATE:20260403
END:VEVENT
END:VCALENDAR
