BEGIN:VCALENDAR
VERSION:2.0
PRODID:SchoolNow
CALSCALE:GREGORIAN
BEGIN:VEVENT
UID:6cbb425e-6bf2-11f0-a637-0ec27b473abd
DTSTAMP:20260220T195007Z
SUMMARY:No School / Spring Break
URL;VALUE=URI:https://www.tusd.org/schools/fern/calendar/8453126/no-school-
 spring-break
DTSTART;VALUE=DATE:20260401
DTEND;VALUE=DATE:20260402
END:VEVENT
END:VCALENDAR
