BEGIN:VCALENDAR
VERSION:2.0
PRODID:SchoolNow
CALSCALE:GREGORIAN
BEGIN:VEVENT
UID:6cbb3c28-6bf2-11f0-adca-0ec27b473abd
DTSTAMP:20260220T195007Z
SUMMARY:No School / Non Teaching Day
URL;VALUE=URI:https://www.tusd.org/schools/fern/calendar/8453119/no-school-
 non-teaching-day
DTSTART;VALUE=DATE:20251223
DTEND;VALUE=DATE:20251224
END:VEVENT
END:VCALENDAR
