BEGIN:VCALENDAR
VERSION:2.0
PRODID:SchoolNow
CALSCALE:GREGORIAN
BEGIN:VEVENT
UID:6cbb3a34-6bf2-11f0-935f-0ec27b473abd
DTSTAMP:20260220T195007Z
SUMMARY:No School / Non Teaching Day
URL;VALUE=URI:https://www.tusd.org/schools/fern/calendar/8453117/no-school-
 non-teaching-day
DTSTART;VALUE=DATE:20251126
DTEND;VALUE=DATE:20251127
END:VEVENT
END:VCALENDAR
