BEGIN:VCALENDAR
VERSION:2.0
PRODID:SchoolNow
CALSCALE:GREGORIAN
BEGIN:VEVENT
UID:6cbb384a-6bf2-11f0-bd39-0ec27b473abd
DTSTAMP:20260220T195007Z
SUMMARY:No School / Non Teaching Day
URL;VALUE=URI:https://www.tusd.org/schools/fern/calendar/8453115/no-school-
 non-teaching-day
DTSTART;VALUE=DATE:20251124
DTEND;VALUE=DATE:20251125
END:VEVENT
END:VCALENDAR
