BEGIN:VCALENDAR
VERSION:2.0
PRODID:SchoolNow
CALSCALE:GREGORIAN
BEGIN:VEVENT
UID:6cbb3642-6bf2-11f0-9914-0ec27b473abd
DTSTAMP:20260220T195007Z
SUMMARY:No School: M.L. King Jr. Day
URL;VALUE=URI:https://www.tusd.org/schools/fern/calendar/8453114/no-school-
 m-l-king-jr-day
DTSTART;VALUE=DATE:20260119
DTEND;VALUE=DATE:20260120
END:VEVENT
END:VCALENDAR
