BEGIN:VCALENDAR
VERSION:2.0
PRODID:SchoolNow
CALSCALE:GREGORIAN
BEGIN:VEVENT
UID:6cbb3548-6bf2-11f0-848e-0ec27b473abd
DTSTAMP:20260220T195007Z
SUMMARY:No School: New Year's Day
URL;VALUE=URI:https://www.tusd.org/schools/fern/calendar/8453113/no-school-
 new-years-day
DTSTART;VALUE=DATE:20260101
DTEND;VALUE=DATE:20260102
END:VEVENT
END:VCALENDAR
