BEGIN:VCALENDAR
VERSION:2.0
PRODID:SchoolNow
CALSCALE:GREGORIAN
BEGIN:VEVENT
UID:6cbb344e-6bf2-11f0-bac8-0ec27b473abd
DTSTAMP:20260220T195007Z
SUMMARY:No School: New Year's Eve
URL;VALUE=URI:https://www.tusd.org/schools/fern/calendar/8453112/no-school-
 new-years-eve
DTSTART;VALUE=DATE:20251231
DTEND;VALUE=DATE:20260101
END:VEVENT
END:VCALENDAR
