BEGIN:VCALENDAR
VERSION:2.0
PRODID:SchoolNow
CALSCALE:GREGORIAN
BEGIN:VEVENT
UID:6cbb335e-6bf2-11f0-8720-0ec27b473abd
DTSTAMP:20260220T195007Z
SUMMARY:No School: Veteran's Day
URL;VALUE=URI:https://www.tusd.org/schools/fern/calendar/8453111/no-school-
 veterans-day
DTSTART;VALUE=DATE:20251111
DTEND;VALUE=DATE:20251112
END:VEVENT
END:VCALENDAR
