BEGIN:VCALENDAR
VERSION:2.0
PRODID:SchoolNow
CALSCALE:GREGORIAN
BEGIN:VEVENT
UID:6cbb3250-6bf2-11f0-b936-0ec27b473abd
DTSTAMP:20260220T195007Z
SUMMARY:No School / Non Teaching Day
URL;VALUE=URI:https://www.tusd.org/schools/fern/calendar/8453110/no-school-
 non-teaching-day
DTSTART;VALUE=DATE:20260501
DTEND;VALUE=DATE:20260502
END:VEVENT
END:VCALENDAR
