BEGIN:VCALENDAR
VERSION:2.0
PRODID:SchoolNow
CALSCALE:GREGORIAN
BEGIN:VEVENT
UID:6cbb2d32-6bf2-11f0-bda8-0ec27b473abd
DTSTAMP:20260220T195007Z
SUMMARY:Student Free Day /  Staff Development
URL;VALUE=URI:https://www.tusd.org/schools/fern/calendar/8453107/student-fr
 ee-day-staff-development
DTSTART;VALUE=DATE:20260306
DTEND;VALUE=DATE:20260307
END:VEVENT
END:VCALENDAR
