BEGIN:VCALENDAR
VERSION:2.0
PRODID:SchoolNow
CALSCALE:GREGORIAN
BEGIN:VEVENT
UID:321d2a68-48b1-11f0-9425-02a5c122f23f
DTSTAMP:20260421T172009Z
SUMMARY:Adventures in Art: Appreciation Brunch
URL;VALUE=URI:https://www.tusd.org/schools/fern/calendar/8299647/adventures
 -in-art-appreciation-brunch
DTSTART:20260521T160000Z
DTEND:20260521T190000Z
END:VEVENT
END:VCALENDAR
