BEGIN:VCALENDAR
VERSION:2.0
PRODID:SchoolNow
CALSCALE:GREGORIAN
BEGIN:VEVENT
UID:321d2978-48b1-11f0-9cb2-02a5c122f23f
DTSTAMP:20260421T172009Z
SUMMARY:Adventures in Art: Docent Workshop #5
URL;VALUE=URI:https://www.tusd.org/schools/fern/calendar/8299646/adventures
 -in-art-docent-workshop-5
DTSTART:20260416T160000Z
DTEND:20260416T183000Z
END:VEVENT
END:VCALENDAR
