BEGIN:VCALENDAR
VERSION:2.0
PRODID:SchoolNow
CALSCALE:GREGORIAN
BEGIN:VEVENT
UID:321d2888-48b1-11f0-97b9-02a5c122f23f
DTSTAMP:20260421T172009Z
SUMMARY:Adventures in Art: Docent Workshop #4
URL;VALUE=URI:https://www.tusd.org/schools/fern/calendar/8299645/adventures
 -in-art-docent-workshop-4
DTSTART:20260226T170000Z
DTEND:20260226T193000Z
END:VEVENT
END:VCALENDAR
