BEGIN:VCALENDAR
VERSION:2.0
PRODID:SchoolNow
CALSCALE:GREGORIAN
BEGIN:VEVENT
UID:321d277a-48b1-11f0-9b99-02a5c122f23f
DTSTAMP:20260421T172009Z
SUMMARY:Adventures in Art: Docent Workshop #3
URL;VALUE=URI:https://www.tusd.org/schools/fern/calendar/8299644/adventures
 -in-art-docent-workshop-3
DTSTART:20260115T170000Z
DTEND:20260115T193000Z
END:VEVENT
END:VCALENDAR
