BEGIN:VCALENDAR
VERSION:2.0
PRODID:SchoolNow
CALSCALE:GREGORIAN
BEGIN:VEVENT
UID:99203f00-220c-11f0-98c1-0a58a9feac02
DTSTAMP:20260220T195007Z
SUMMARY:Class Group and Spring Picture Day
URL;VALUE=URI:https://www.tusd.org/schools/fern/calendar/8008203/class-grou
 p-and-spring-picture-day
DTSTART;VALUE=DATE:20260203
DTEND;VALUE=DATE:20260204
END:VEVENT
END:VCALENDAR
