BEGIN:VCALENDAR
VERSION:2.0
PRODID:SchoolNow
CALSCALE:GREGORIAN
BEGIN:VEVENT
UID:99203af0-220c-11f0-8100-0a58a9feac02
DTSTAMP:20260220T195007Z
SUMMARY:Retake Picture Day
URL;VALUE=URI:https://www.tusd.org/schools/fern/calendar/8008202/retake-pic
 ture-day
DTSTART;VALUE=DATE:20251202
DTEND;VALUE=DATE:20251203
END:VEVENT
END:VCALENDAR
