BEGIN:VCALENDAR
VERSION:2.0
PRODID:SchoolNow
CALSCALE:GREGORIAN
BEGIN:VEVENT
UID:d3cbff74-1cab-11f0-bf8f-0afffd5fd805
DTSTAMP:20260220T195007Z
SUMMARY:5th Grade Promotion Picture Day
URL;VALUE=URI:https://www.tusd.org/schools/fern/calendar/7956753/5th-grade-
 promotion-picture-day
DTSTART:20260218T160000Z
DTEND:20260218T200000Z
END:VEVENT
END:VCALENDAR
