BEGIN:VCALENDAR
VERSION:2.0
PRODID:SchoolNow
CALSCALE:GREGORIAN
BEGIN:VEVENT
UID:d3cbfe48-1cab-11f0-87b8-0afffd5fd805
DTSTAMP:20260220T195007Z
SUMMARY:5th Grade Panoramic Picture Day
URL;VALUE=URI:https://www.tusd.org/schools/fern/calendar/7956752/5th-grade-
 panoramic-picture-day
DTSTART;VALUE=DATE:20260113
DTEND;VALUE=DATE:20260114
END:VEVENT
END:VCALENDAR
