BEGIN:VCALENDAR
VERSION:2.0
PRODID:SchoolNow
CALSCALE:GREGORIAN
BEGIN:VEVENT
UID:6ed977c4-530f-11ef-8226-0affcef6953d
DTSTAMP:20260220T195007Z
SUMMARY:Progress Reports in PowerSchool
URL;VALUE=URI:https://www.tusd.org/schools/fern/calendar/6355503/progress-r
 eports-in-powerschool
DTSTART;VALUE=DATE:20260321
DTEND;VALUE=DATE:20260322
END:VEVENT
END:VCALENDAR
