BEGIN:VCALENDAR
VERSION:2.0
PRODID:SchoolNow
CALSCALE:GREGORIAN
BEGIN:VEVENT
UID:e2fbf5e0-2dae-11ef-be7f-0a58a9feac02
DTSTAMP:20260220T195007Z
SUMMARY:Progress Reports in PowerSchool
URL;VALUE=URI:https://www.tusd.org/schools/fern/calendar/6140843/progress-r
 eports-in-powerschool
DTSTART;VALUE=DATE:20251205
DTEND;VALUE=DATE:20251206
END:VEVENT
END:VCALENDAR
