BEGIN:VCALENDAR
VERSION:2.0
PRODID:SchoolNow
CALSCALE:GREGORIAN
BEGIN:VEVENT
UID:95f4f1c2-6255-11ee-825f-02cedc338c99
DTSTAMP:20231004T013022Z
SUMMARY:Picture Day
URL;VALUE=URI:https://www.tusd.org/schools/fern/calendar/4828813/picture-da
 y
DTSTART;VALUE=DATE:20231010
DTEND;VALUE=DATE:20231011
ATTACH;FILENAME=Picture Day Reminder - UG ORG.pdf;FMTTYPE=application/pdf:h
 ttps://campussuite-storage.s3.amazonaws.com/prod/484005/2752018e-59b7-11e6
 -943a-22000bd8490f/2675405/868a603c-6255-11ee-a88c-0e21c6c8db91/file/Pictu
 re Day Reminder - UG ORG.pdf
END:VEVENT
END:VCALENDAR
