BEGIN:VCALENDAR
VERSION:2.0
PRODID:SchoolNow
CALSCALE:GREGORIAN
BEGIN:VEVENT
UID:cce7514e-f744-11f0-b863-0a58a9feac02
DTSTAMP:20260425T162603Z
SUMMARY:Parent Health Video
URL;VALUE=URI:https://www.tusd.org/schools/edison/calendar/8839215/parent-h
 ealth-video
DTSTART:20260508T000000Z
DTEND:20260508T003000Z
END:VEVENT
END:VCALENDAR
