BEGIN:VCALENDAR
VERSION:2.0
PRODID:SchoolNow
CALSCALE:GREGORIAN
BEGIN:VEVENT
UID:269339d0-aaea-11f0-8ec1-0eb2950f33fb
DTSTAMP:20260425T162603Z
SUMMARY:Fire Drill
URL;VALUE=URI:https://www.tusd.org/schools/edison/calendar/8728555/fire-dri
 ll
DTSTART:20260505T180000Z
DTEND:20260505T181500Z
END:VEVENT
END:VCALENDAR
