BEGIN:VCALENDAR
VERSION:2.0
PRODID:SchoolNow
CALSCALE:GREGORIAN
BEGIN:VEVENT
UID:2e6a9d0c-9e5f-11f0-aa74-0a58a9feac02
DTSTAMP:20260425T162603Z
SUMMARY:Shelter in Place Drill
URL;VALUE=URI:https://www.tusd.org/schools/edison/calendar/8682603/shelter-
 in-place-drill
DTSTART:20260506T183000Z
DTEND:20260506T184500Z
END:VEVENT
END:VCALENDAR
