BEGIN:VCALENDAR
VERSION:2.0
PRODID:SchoolNow
CALSCALE:GREGORIAN
BEGIN:VEVENT
UID:a96a5d3c-b127-11f0-aea2-0affc9e70e59
DTSTAMP:20251216T214619Z
SUMMARY:Juneteenth
URL;VALUE=URI:https://www.tusd.org/schools/carr/carr-old/calendar/8748324/j
 uneteenth
DTSTART;VALUE=DATE:20270619
DTEND;VALUE=DATE:20270620
END:VEVENT
END:VCALENDAR
