BEGIN:VCALENDAR
VERSION:2.0
PRODID:SchoolNow
CALSCALE:GREGORIAN
BEGIN:VEVENT
UID:faaebf04-94c5-11f0-b9a8-0a58a9feac02
DTSTAMP:20251216T214619Z
SUMMARY:Teacher and Staff Appreciation Week
URL;VALUE=URI:https://www.tusd.org/schools/carr/carr-old/calendar/8638417/t
 eacher-and-staff-appreciation-week
DTSTART;VALUE=DATE:20270502
DTEND;VALUE=DATE:20270507
END:VEVENT
END:VCALENDAR
