BEGIN:VCALENDAR
VERSION:2.0
PRODID:SchoolNow
CALSCALE:GREGORIAN
BEGIN:VEVENT
UID:faaebde2-94c5-11f0-8096-0a58a9feac02
DTSTAMP:20251216T214619Z
SUMMARY:Earth Day
URL;VALUE=URI:https://www.tusd.org/schools/carr/carr-old/calendar/8638416/e
 arth-day
DTSTART;VALUE=DATE:20270422
DTEND;VALUE=DATE:20270423
END:VEVENT
END:VCALENDAR
