BEGIN:VCALENDAR
VERSION:2.0
PRODID:SchoolNow
CALSCALE:GREGORIAN
BEGIN:VEVENT
UID:faaebc34-94c5-11f0-abb4-0a58a9feac02
DTSTAMP:20251216T214619Z
SUMMARY:Jewish American Heritage Month
URL;VALUE=URI:https://www.tusd.org/schools/carr/carr-old/calendar/8638415/j
 ewish-american-heritage-month
DTSTART;VALUE=DATE:20270501
DTEND;VALUE=DATE:20270601
END:VEVENT
END:VCALENDAR
